BEGIN:VCALENDAR
VERSION:2.0
PRODID:-//Bureau County Fair - ECPv6.15.20//NONSGML v1.0//EN
CALSCALE:GREGORIAN
METHOD:PUBLISH
X-WR-CALNAME:Bureau County Fair
X-ORIGINAL-URL:https://bureaucountyfair.com
X-WR-CALDESC:Events for Bureau County Fair
REFRESH-INTERVAL;VALUE=DURATION:PT1H
X-Robots-Tag:noindex
X-PUBLISHED-TTL:PT1H
BEGIN:VTIMEZONE
TZID:America/Chicago
BEGIN:DAYLIGHT
TZOFFSETFROM:-0600
TZOFFSETTO:-0500
TZNAME:CDT
DTSTART:20250309T080000
END:DAYLIGHT
BEGIN:STANDARD
TZOFFSETFROM:-0500
TZOFFSETTO:-0600
TZNAME:CST
DTSTART:20251102T070000
END:STANDARD
BEGIN:DAYLIGHT
TZOFFSETFROM:-0600
TZOFFSETTO:-0500
TZNAME:CDT
DTSTART:20260308T080000
END:DAYLIGHT
BEGIN:STANDARD
TZOFFSETFROM:-0500
TZOFFSETTO:-0600
TZNAME:CST
DTSTART:20261101T070000
END:STANDARD
BEGIN:DAYLIGHT
TZOFFSETFROM:-0600
TZOFFSETTO:-0500
TZNAME:CDT
DTSTART:20270314T080000
END:DAYLIGHT
BEGIN:STANDARD
TZOFFSETFROM:-0500
TZOFFSETTO:-0600
TZNAME:CST
DTSTART:20271107T070000
END:STANDARD
END:VTIMEZONE
BEGIN:VEVENT
DTSTART;TZID=America/Chicago:20260503T080000
DTEND;TZID=America/Chicago:20260503T140000
DTSTAMP:20260421T061526
CREATED:20260107T200826Z
LAST-MODIFIED:20260107T200826Z
UID:239736-1777795200-1777816800@bureaucountyfair.com
SUMMARY:Walneck's Motorcycle Swap Meet
DESCRIPTION:All kinds of great things can be found HERE!!! Grab all that old stuff sitting in the garage\, and come out to Walneck’s motorcycle swap meet. $10 admission. Vending is $50. Please call to reserve spots 630-985-2097 \n  \n 
URL:https://bureaucountyfair.com/event/walnecks-motorcycle-swap-meet-5/
LOCATION:Bureau County Fairgrounds\, 811 West Peru Street\, Princeton\, IL\, 61356\, United States
CATEGORIES:Swap Meet
ATTACH;FMTTYPE=image/webp:https://bureaucountyfair.com/wp-content/uploads/2026/01/WNS-Princeton-May-2026-1.webp
ORGANIZER;CN="Kathy Bauer":MAILTO:events@bureaucountyfair.com
END:VEVENT
BEGIN:VEVENT
DTSTART;TZID=America/Chicago:20260509T080000
DTEND;TZID=America/Chicago:20260509T170000
DTSTAMP:20260421T061526
CREATED:20260210T181345Z
LAST-MODIFIED:20260210T181345Z
UID:239894-1778313600-1778346000@bureaucountyfair.com
SUMMARY:Bureau County Fair Queen Golf Outing
DESCRIPTION:The 4th Annual Bureau County Fair Queen Golf Outing will be held at Spring Creek Golf Course in Spring Valley. \nCost is $70 per player before April 10th and $80 after. $500 cash prize to the winning team. 100% of the proceeds go to support the fair pageant. \nRegister now. Space is limited. \nCall Shari Marquez at 815-252-6835 or e-mail her at shari_marquez@yahoo.com with questions. \n 
URL:https://bureaucountyfair.com/event/bureau-county-fair-queen-golf-outing-2/
LOCATION:Spring Creek Golf Course\, 286 Spring Creek Drive\, Spring Valley\, IL\, 61362\, United States
CATEGORIES:Special Event
ATTACH;FMTTYPE=image/png:https://bureaucountyfair.com/wp-content/uploads/2026/02/4th-annual-2-1.webp
END:VEVENT
BEGIN:VEVENT
DTSTART;TZID=America/Chicago:20260511T080000
DTEND;TZID=America/Chicago:20260511T170000
DTSTAMP:20260421T061526
CREATED:20260203T235357Z
LAST-MODIFIED:20260204T003851Z
UID:239793-1778486400-1778518800@bureaucountyfair.com
SUMMARY:The Great Pages Circus!
DESCRIPTION:More details to follow!
URL:https://bureaucountyfair.com/event/the-great-pages-circus/
LOCATION:Bureau County Fairgrounds\, 811 West Peru Street\, Princeton\, IL\, 61356\, United States
CATEGORIES:Event
ATTACH;FMTTYPE=image/jpeg:https://bureaucountyfair.com/wp-content/uploads/2026/02/the.great_.pages.circus.webp
END:VEVENT
BEGIN:VEVENT
DTSTART;TZID=America/Chicago:20260512T080000
DTEND;TZID=America/Chicago:20260512T170000
DTSTAMP:20260421T061526
CREATED:20260204T003931Z
LAST-MODIFIED:20260204T003931Z
UID:239870-1778572800-1778605200@bureaucountyfair.com
SUMMARY:The Great Pages Circus!
DESCRIPTION:More details to follow!
URL:https://bureaucountyfair.com/event/the-great-pages-circus-2/
LOCATION:Bureau County Fairgrounds\, 811 West Peru Street\, Princeton\, IL\, 61356\, United States
CATEGORIES:Event
ATTACH;FMTTYPE=image/jpeg:https://bureaucountyfair.com/wp-content/uploads/2026/02/the.great_.pages.circus.webp
END:VEVENT
BEGIN:VEVENT
DTSTART;TZID=America/Chicago:20260523T090000
DTEND;TZID=America/Chicago:20260523T140000
DTSTAMP:20260421T061526
CREATED:20260309T174609Z
LAST-MODIFIED:20260309T174743Z
UID:239972-1779526800-1779544800@bureaucountyfair.com
SUMMARY:Sports Cards\, Pokemon\, TCG\, Memorabilia\, & More Show!!
DESCRIPTION:Admission 12 years & up $3 Kids 11 and under Free \n8’ banquet tables $35 each \nBuy-Sell-Trade – Vintage and Modern Sports Cards\, Pokemon\, One Piece\, Dragonball\, Magic\, Lorcana\, Yu-Gi-Oh and other TCG Cards\, Memorabilia\, Collectibles\, Autographs\, Lego\, Comic Books\, Bobbleheads\, Action Figures\, Video Games and More! \nBureau County Fairgrounds is located on the west edge of Princeton\, IL. one mile south of I-80. 50 miles north of Peoria\, 2 hours west of Chicago. 3 huge heated exhibit halls available for the show. Set up Saturday from 6:30 a.m. to 8:30 a.m. Concession stand in building with breakfast and lunch \nmenu. Hotels available 1 mile from fairgrounds.\nFor Information or to Sign up Call Kathy Bauer (815) 866-3606 Make check out to Bureau County Fair.\nMail to Kathy Bauer\, 205 S Fifth St\, Princeton\, IL 61356 \nRegistration form here \nEmail kathybcfair@yahoo.com Web Page www.bureaucountyfair.com
URL:https://bureaucountyfair.com/event/sports-cards-pokemon-tcg-memorabilia-more-show/
LOCATION:Bureau County Fairgrounds\, 811 West Peru Street\, Princeton\, IL\, 61356\, United States
CATEGORIES:Card Show,Event
ATTACH;FMTTYPE=image/png:https://bureaucountyfair.com/wp-content/uploads/2026/03/PosterMyWall_GeneratedImage_e833486b.webp
ORGANIZER;CN="Kathy Bauer":MAILTO:events@bureaucountyfair.com
END:VEVENT
BEGIN:VEVENT
DTSTART;TZID=America/Chicago:20260530T091500
DTEND;TZID=America/Chicago:20260530T120000
DTSTAMP:20260421T061526
CREATED:20260203T235444Z
LAST-MODIFIED:20260204T004225Z
UID:239795-1780132500-1780142400@bureaucountyfair.com
SUMMARY:River Bend Food Pantry
DESCRIPTION:The mobile pantry will begin distribution at 10 a.m. at the fairgrounds\, 811 W. Peru St.\, Princeton. Registration is from 9:15 to 10 a.m.\n\n\nThose using the pantry should arrive 30 minutes before distribution. The distribution will be indoors and may take up to two hours. Laundry baskets are great for using the food pantry.\n\n\n\nThe food pantry is coming to Princeton in partnership with the Bureau County Food Pantry\, Old Wheels Club and First Lutheran Church. For information\, visit riverbendfoodbank.org.
URL:https://bureaucountyfair.com/event/river-bend-food-pantry-8/
LOCATION:Bureau County Fairgrounds\, 811 West Peru Street\, Princeton\, IL\, 61356\, United States
CATEGORIES:Food Pantry
ATTACH;FMTTYPE=image/jpeg:https://bureaucountyfair.com/wp-content/uploads/2026/02/river.bend_.food_.bank-may.2026.webp
ORGANIZER;CN="Kathy Bauer":MAILTO:events@bureaucountyfair.com
END:VEVENT
END:VCALENDAR