BEGIN:VCALENDAR
VERSION:2.0
PRODID:-//Bureau County Fair - ECPv6.15.20//NONSGML v1.0//EN
CALSCALE:GREGORIAN
METHOD:PUBLISH
X-WR-CALNAME:Bureau County Fair
X-ORIGINAL-URL:https://bureaucountyfair.com
X-WR-CALDESC:Events for Bureau County Fair
REFRESH-INTERVAL;VALUE=DURATION:PT1H
X-Robots-Tag:noindex
X-PUBLISHED-TTL:PT1H
BEGIN:VTIMEZONE
TZID:America/Chicago
BEGIN:DAYLIGHT
TZOFFSETFROM:-0600
TZOFFSETTO:-0500
TZNAME:CDT
DTSTART:20250309T080000
END:DAYLIGHT
BEGIN:STANDARD
TZOFFSETFROM:-0500
TZOFFSETTO:-0600
TZNAME:CST
DTSTART:20251102T070000
END:STANDARD
BEGIN:DAYLIGHT
TZOFFSETFROM:-0600
TZOFFSETTO:-0500
TZNAME:CDT
DTSTART:20260308T080000
END:DAYLIGHT
BEGIN:STANDARD
TZOFFSETFROM:-0500
TZOFFSETTO:-0600
TZNAME:CST
DTSTART:20261101T070000
END:STANDARD
BEGIN:DAYLIGHT
TZOFFSETFROM:-0600
TZOFFSETTO:-0500
TZNAME:CDT
DTSTART:20270314T080000
END:DAYLIGHT
BEGIN:STANDARD
TZOFFSETFROM:-0500
TZOFFSETTO:-0600
TZNAME:CST
DTSTART:20271107T070000
END:STANDARD
END:VTIMEZONE
BEGIN:VTIMEZONE
TZID:UTC
BEGIN:STANDARD
TZOFFSETFROM:+0000
TZOFFSETTO:+0000
TZNAME:UTC
DTSTART:20250101T000000
END:STANDARD
END:VTIMEZONE
BEGIN:VEVENT
DTSTART;VALUE=DATE:20260828
DTEND;VALUE=DATE:20260829
DTSTAMP:20260419T191626
CREATED:20260204T000414Z
LAST-MODIFIED:20260204T005453Z
UID:239821-1787875200-1787961599@bureaucountyfair.com
SUMMARY:171st Bureau County Fair!
DESCRIPTION:More details to follow!
URL:https://bureaucountyfair.com/event/171st-bureau-county-fair-3/
LOCATION:Bureau County Fairgrounds\, 811 West Peru Street\, Princeton\, IL\, 61356\, United States
CATEGORIES:Fair
ATTACH;FMTTYPE=image/jpeg:https://bureaucountyfair.com/wp-content/uploads/2025/07/Night-Fairgrounds.webp
END:VEVENT
BEGIN:VEVENT
DTSTART;TZID=UTC:20260828T173000
DTEND;TZID=UTC:20260828T173000
DTSTAMP:20260419T191626
CREATED:20240723T060610Z
LAST-MODIFIED:20260303T091026Z
UID:238506-1787938200-1787938200@bureaucountyfair.com
SUMMARY:Truck & Tractor Pull
DESCRIPTION:5:30 p.m. Farm Stock Tractor Pull\n6:30 p.m. Illinois State Pullers Truck and Tractor Pull \nPit Pass – $20\nAdults – $15\nAges 7-12 – $5\nAges 6 and under – Free
URL:https://bureaucountyfair.com/event/truck-tractor-pull/
LOCATION:Grandstand\, 811 West Peru Street\, Princeton\, IL\, 61356\, United States
CATEGORIES:Friday,Friday Featured,Grandstand
ATTACH;FMTTYPE=image/jpeg:https://bureaucountyfair.com/wp-content/uploads/2024/07/truck-tractor-pull-jpg.webp
END:VEVENT
BEGIN:VEVENT
DTSTART;VALUE=DATE:20260829
DTEND;VALUE=DATE:20260830
DTSTAMP:20260419T191626
CREATED:20260204T000440Z
LAST-MODIFIED:20260204T005409Z
UID:239823-1787961600-1788047999@bureaucountyfair.com
SUMMARY:171st Bureau County Fair!
DESCRIPTION:More details to follow!
URL:https://bureaucountyfair.com/event/171st-bureau-county-fair-4/
LOCATION:Bureau County Fairgrounds\, 811 West Peru Street\, Princeton\, IL\, 61356\, United States
CATEGORIES:Fair
ATTACH;FMTTYPE=image/jpeg:https://bureaucountyfair.com/wp-content/uploads/2025/07/Night-Fairgrounds.webp
END:VEVENT
BEGIN:VEVENT
DTSTART;TZID=UTC:20260829T160000
DTEND;TZID=UTC:20260829T220000
DTSTAMP:20260419T191626
CREATED:20240723T060852Z
LAST-MODIFIED:20260303T090956Z
UID:238509-1788019200-1788040800@bureaucountyfair.com
SUMMARY:Demolition Derby
DESCRIPTION:
URL:https://bureaucountyfair.com/event/demolition-derby/
LOCATION:Grandstand\, 811 West Peru Street\, Princeton\, IL\, 61356\, United States
CATEGORIES:Grandstand,Saturday,Saturday Featured
ATTACH;FMTTYPE=image/jpeg:https://bureaucountyfair.com/wp-content/uploads/2024/07/demo-derby-1-jpg.webp
END:VEVENT
BEGIN:VEVENT
DTSTART;VALUE=DATE:20260830
DTEND;VALUE=DATE:20260831
DTSTAMP:20260419T191626
CREATED:20260204T000507Z
LAST-MODIFIED:20260204T005330Z
UID:239825-1788048000-1788134399@bureaucountyfair.com
SUMMARY:171st Bureau County Fair!
DESCRIPTION:More details to follow!
URL:https://bureaucountyfair.com/event/171st-bureau-county-fair-5/
LOCATION:Bureau County Fairgrounds\, 811 West Peru Street\, Princeton\, IL\, 61356\, United States
CATEGORIES:Fair
ATTACH;FMTTYPE=image/jpeg:https://bureaucountyfair.com/wp-content/uploads/2025/07/Night-Fairgrounds.webp
END:VEVENT
BEGIN:VEVENT
DTSTART;TZID=America/Chicago:20260913T080000
DTEND;TZID=America/Chicago:20260913T140000
DTSTAMP:20260419T191626
CREATED:20260204T000030Z
LAST-MODIFIED:20260204T005730Z
UID:239811-1789286400-1789308000@bureaucountyfair.com
SUMMARY:Homestead Festival Flea Market
DESCRIPTION:More details to follow! \nCall 815-866-3606 for registration.
URL:https://bureaucountyfair.com/event/homestead-festival-flea-market/
LOCATION:Bureau County Fairgrounds\, 811 West Peru Street\, Princeton\, IL\, 61356\, United States
CATEGORIES:Flea Market
ATTACH;FMTTYPE=image/jpeg:https://bureaucountyfair.com/wp-content/uploads/2025/01/Flea-Market.webp
END:VEVENT
BEGIN:VEVENT
DTSTART;TZID=America/Chicago:20260924T091500
DTEND;TZID=America/Chicago:20260924T120000
DTSTAMP:20260419T191626
CREATED:20260204T000104Z
LAST-MODIFIED:20260204T010016Z
UID:239813-1790241300-1790251200@bureaucountyfair.com
SUMMARY:River Bend Food Pantry
DESCRIPTION:The mobile pantry will begin distribution at 10 a.m. at the fairgrounds\, 811 W. Peru St.\, Princeton. Registration is from 9:15 to 10 a.m.\n\n\nThose using the pantry should arrive 30 minutes before distribution. The distribution will be indoors and may take up to two hours. Laundry baskets are great for using the food pantry.\n\n\n\nThe food pantry is coming to Princeton in partnership with the Bureau County Food Pantry\, Old Wheels Club and First Lutheran Church. For information\, visit riverbendfoodbank.org.
URL:https://bureaucountyfair.com/event/river-bend-food-pantry-10/
LOCATION:Bureau County Fairgrounds\, 811 West Peru Street\, Princeton\, IL\, 61356\, United States
CATEGORIES:Food Pantry
ATTACH;FMTTYPE=image/jpeg:https://bureaucountyfair.com/wp-content/uploads/2026/02/Copy-of-Copy-of-river.bend_.food_.bank-sept.2026.webp
ORGANIZER;CN="Kathy Bauer":MAILTO:events@bureaucountyfair.com
END:VEVENT
BEGIN:VEVENT
DTSTART;TZID=America/Chicago:20260926T090000
DTEND;TZID=America/Chicago:20260926T140000
DTSTAMP:20260419T191626
CREATED:20260417T180612Z
LAST-MODIFIED:20260417T180717Z
UID:239985-1790413200-1790431200@bureaucountyfair.com
SUMMARY:Dreadfully Yours
DESCRIPTION:Set-up on Saturday 6:30-8:30 a.m. Three huge heated exhibit halls available for the show. Concession stand in building. Hotels available one mile from the fairgrounds. Tables are set up in a U shape. Maximum of three tables fit in the 10×10 space. 10×10 space with three tables is $40. \nMake checks payable to: Mike Smith\, 331 Sharon Lane\, North Aurora\, Illinois\, 60542-1237. Email: master@dreadfully-yours.com. \nDownload Vendor Form
URL:https://bureaucountyfair.com/event/dreadfully-yours/
LOCATION:Bureau County Fairgrounds\, 811 West Peru Street\, Princeton\, IL\, 61356\, United States
CATEGORIES:Flea Market
END:VEVENT
BEGIN:VEVENT
DTSTART;TZID=America/Chicago:20261017T173000
DTEND;TZID=America/Chicago:20261017T183000
DTSTAMP:20260419T191626
CREATED:20260417T182519Z
LAST-MODIFIED:20260417T182519Z
UID:239992-1792258200-1792261800@bureaucountyfair.com
SUMMARY:Halloween Parade
DESCRIPTION:Come join the fun! Register to participate by emailing office@bureaucountyfair.com.
URL:https://bureaucountyfair.com/event/halloween-parade-3/
LOCATION:Bureau County Fairgrounds\, 811 West Peru Street\, Princeton\, IL\, 61356\, United States
CATEGORIES:Special Event
ATTACH;FMTTYPE=image/jpeg:https://bureaucountyfair.com/wp-content/uploads/2025/08/halloween-parade.webp
END:VEVENT
BEGIN:VEVENT
DTSTART;TZID=America/Chicago:20261024T083000
DTEND;TZID=America/Chicago:20261024T160000
DTSTAMP:20260419T191626
CREATED:20260107T193415Z
LAST-MODIFIED:20260107T193634Z
UID:239717-1792830600-1792857600@bureaucountyfair.com
SUMMARY:Sauk Trail Gun Collectors Gun Show
DESCRIPTION:Sauk Trail Gun Collectors Gun Show\nThis Princeton gun show is held at Bureau County Fairgrounds and hosted by Sauk Trail Gun Collectors. For info call Danny 309-689-1934. \nAll federal and local firearm laws and ordinances must be obeyed.
URL:https://bureaucountyfair.com/event/sauk-trail-gun-collectors-gun-show-13/
LOCATION:Bureau County Fairgrounds\, 811 West Peru Street\, Princeton\, IL\, 61356\, United States
CATEGORIES:Gun Show
ATTACH;FMTTYPE=image/jpeg:https://bureaucountyfair.com/wp-content/uploads/2025/01/Sauk-Trail-Gun-Collectors-Gun-Show.webp
ORGANIZER;CN="Kathy Bauer":MAILTO:events@bureaucountyfair.com
END:VEVENT
BEGIN:VEVENT
DTSTART;TZID=America/Chicago:20261025T083000
DTEND;TZID=America/Chicago:20261025T140000
DTSTAMP:20260419T191626
CREATED:20260107T193904Z
LAST-MODIFIED:20260107T193904Z
UID:239726-1792917000-1792936800@bureaucountyfair.com
SUMMARY:Sauk Trail Gun Collectors Gun Show
DESCRIPTION:Sauk Trail Gun Collectors Gun Show\nThis Princeton gun show is held at Bureau County Fairgrounds and hosted by Sauk Trail Gun Collectors. For info call Danny 309-689-1934. \nAll federal and local firearm laws and ordinances must be obeyed.
URL:https://bureaucountyfair.com/event/sauk-trail-gun-collectors-gun-show-14/
LOCATION:Bureau County Fairgrounds\, 811 West Peru Street\, Princeton\, IL\, 61356\, United States
CATEGORIES:Gun Show
ATTACH;FMTTYPE=image/jpeg:https://bureaucountyfair.com/wp-content/uploads/2025/01/Sauk-Trail-Gun-Collectors-Gun-Show.webp
ORGANIZER;CN="Kathy Bauer":MAILTO:events@bureaucountyfair.com
END:VEVENT
BEGIN:VEVENT
DTSTART;TZID=America/Chicago:20261101T090000
DTEND;TZID=America/Chicago:20261101T120000
DTSTAMP:20260419T191626
CREATED:20260204T000233Z
LAST-MODIFIED:20260204T010123Z
UID:239815-1793523600-1793534400@bureaucountyfair.com
SUMMARY:Winter Storage: Boats & Campers!
DESCRIPTION:More details to follow!
URL:https://bureaucountyfair.com/event/winter-storage-boats-campers/
LOCATION:Bureau County Fairgrounds\, 811 West Peru Street\, Princeton\, IL\, 61356\, United States
CATEGORIES:Event
ATTACH;FMTTYPE=image/jpeg:https://bureaucountyfair.com/wp-content/uploads/2025/01/Winter-Storage-Arrival-Day.webp
END:VEVENT
BEGIN:VEVENT
DTSTART;TZID=America/Chicago:20261107T080000
DTEND;TZID=America/Chicago:20261107T130000
DTSTAMP:20260419T191626
CREATED:20260204T000608Z
LAST-MODIFIED:20260417T181906Z
UID:239827-1794038400-1794056400@bureaucountyfair.com
SUMMARY:Huge Winter Garage Sale
DESCRIPTION:More details to follow! \n 
URL:https://bureaucountyfair.com/event/huge-winter-garage-sale-4/
LOCATION:Bureau County Fairgrounds\, 811 West Peru Street\, Princeton\, IL\, 61356\, United States
CATEGORIES:Garage Sales
ATTACH;FMTTYPE=image/jpeg:https://bureaucountyfair.com/wp-content/uploads/2024/04/Garage-Sale.jpg
END:VEVENT
BEGIN:VEVENT
DTSTART;TZID=America/Chicago:20261108T080000
DTEND;TZID=America/Chicago:20261108T130000
DTSTAMP:20260419T191626
CREATED:20260107T201027Z
LAST-MODIFIED:20260417T181942Z
UID:239739-1794124800-1794142800@bureaucountyfair.com
SUMMARY:Walneck's Motorcycle Swap Meet
DESCRIPTION:All kinds of great things can be found HERE!!! Grab all that old stuff sitting in the garage\, and come out to Walneck’s motorcycle swap meet. $10 admission. Vending is $50. Please call to reserve spots 630-985-2097 \n  \n 
URL:https://bureaucountyfair.com/event/walnecks-motorcycle-swap-meet-6/
LOCATION:Bureau County Fairgrounds\, 811 West Peru Street\, Princeton\, IL\, 61356\, United States
CATEGORIES:Swap Meet
ATTACH;FMTTYPE=image/webp:https://bureaucountyfair.com/wp-content/uploads/2026/01/WNS-Princeton-Nov-2026-1.webp
ORGANIZER;CN="Kathy Bauer":MAILTO:events@bureaucountyfair.com
END:VEVENT
BEGIN:VEVENT
DTSTART;TZID=America/Chicago:20261114T080000
DTEND;TZID=America/Chicago:20261114T170000
DTSTAMP:20260419T191626
CREATED:20260204T000701Z
LAST-MODIFIED:20260417T182008Z
UID:239829-1794643200-1794675600@bureaucountyfair.com
SUMMARY:National Modena Pigeon Show
DESCRIPTION:More details to follow!
URL:https://bureaucountyfair.com/event/national-modena-pigeon-show/
LOCATION:Bureau County Fairgrounds\, 811 West Peru Street\, Princeton\, IL\, 61356\, United States
CATEGORIES:Event
ATTACH;FMTTYPE=image/jpeg:https://bureaucountyfair.com/wp-content/uploads/2025/01/Modena-Pigeon-Show.webp
END:VEVENT
BEGIN:VEVENT
DTSTART;TZID=America/Chicago:20261121T090000
DTEND;TZID=America/Chicago:20261121T140000
DTSTAMP:20260419T191626
CREATED:20260417T182228Z
LAST-MODIFIED:20260417T182228Z
UID:239989-1795251600-1795269600@bureaucountyfair.com
SUMMARY:Model Train Fair & Farm Toy Show
DESCRIPTION:NEW & USED & ANTIQUE TRAINS AND TOYS \nSpace Available for Train Layouts \nVendors Wanted with all scales of trains – HO\, N\, O\, G\, Thomas\, Lionel\, Marx plus accessories; Farm Toys & Tractors\, Die Cast\, Trucks\, Hot Wheels\, Ertl\, NASCAR & Racing Collectibles and other types of toys. For info call Kathy 815-866-3606.
URL:https://bureaucountyfair.com/event/model-train-fair-farm-toy-show-4/
LOCATION:Bureau County Fairgrounds\, 811 West Peru Street\, Princeton\, IL\, 61356\, United States
CATEGORIES:Flea Market
ATTACH;FMTTYPE=image/jpeg:https://bureaucountyfair.com/wp-content/uploads/2025/01/Model-Train-Fair.webp
ORGANIZER;CN="Kathy Bauer":MAILTO:events@bureaucountyfair.com
END:VEVENT
BEGIN:VEVENT
DTSTART;TZID=America/Chicago:20261127T170000
DTEND;TZID=America/Chicago:20261127T210000
DTSTAMP:20260419T191626
CREATED:20260204T001128Z
LAST-MODIFIED:20260204T011348Z
UID:239835-1795798800-1795813200@bureaucountyfair.com
SUMMARY:Home for the Holidays Christmas Light Drive-thru!!
DESCRIPTION:More details to follow!
URL:https://bureaucountyfair.com/event/home-for-the-holidays-christmas-light-drive-thru/
LOCATION:Bureau County Fairgrounds\, 811 West Peru Street\, Princeton\, IL\, 61356\, United States
CATEGORIES:Event
ATTACH;FMTTYPE=image/jpeg:https://bureaucountyfair.com/wp-content/uploads/2026/02/christmas.drive_.thru_.webp
END:VEVENT
BEGIN:VEVENT
DTSTART;TZID=America/Chicago:20261128T083000
DTEND;TZID=America/Chicago:20261128T160000
DTSTAMP:20260419T191626
CREATED:20260204T000750Z
LAST-MODIFIED:20260204T000812Z
UID:239831-1795854600-1795881600@bureaucountyfair.com
SUMMARY:Sauk Trail Gun Collectors Gun Show
DESCRIPTION:Sauk Trail Gun Collectors Gun Show\nThis Princeton gun show is held at Bureau County Fairgrounds and hosted by Sauk Trail Gun Collectors. For info call Danny 309-689-1934. \nAll federal and local firearm laws and ordinances must be obeyed.
URL:https://bureaucountyfair.com/event/sauk-trail-gun-collectors-gun-show-15/
LOCATION:Bureau County Fairgrounds\, 811 West Peru Street\, Princeton\, IL\, 61356\, United States
CATEGORIES:Gun Show
ATTACH;FMTTYPE=image/jpeg:https://bureaucountyfair.com/wp-content/uploads/2025/01/Sauk-Trail-Gun-Collectors-Gun-Show.webp
ORGANIZER;CN="Kathy Bauer":MAILTO:events@bureaucountyfair.com
END:VEVENT
BEGIN:VEVENT
DTSTART;TZID=America/Chicago:20261128T170000
DTEND;TZID=America/Chicago:20261128T210000
DTSTAMP:20260419T191626
CREATED:20260204T001408Z
LAST-MODIFIED:20260204T011317Z
UID:239845-1795885200-1795899600@bureaucountyfair.com
SUMMARY:Home for the Holidays Christmas Light Drive-thru!!
DESCRIPTION:More details to follow!
URL:https://bureaucountyfair.com/event/home-for-the-holidays-christmas-light-drive-thru-6/
LOCATION:Bureau County Fairgrounds\, 811 West Peru Street\, Princeton\, IL\, 61356\, United States
CATEGORIES:Event
ATTACH;FMTTYPE=image/jpeg:https://bureaucountyfair.com/wp-content/uploads/2026/02/christmas.drive_.thru_.webp
END:VEVENT
BEGIN:VEVENT
DTSTART;TZID=America/Chicago:20261129T083000
DTEND;TZID=America/Chicago:20261129T140000
DTSTAMP:20260419T191626
CREATED:20260204T000840Z
LAST-MODIFIED:20260204T000840Z
UID:239833-1795941000-1795960800@bureaucountyfair.com
SUMMARY:Sauk Trail Gun Collectors Gun Show
DESCRIPTION:Sauk Trail Gun Collectors Gun Show\nThis Princeton gun show is held at Bureau County Fairgrounds and hosted by Sauk Trail Gun Collectors. For info call Danny 309-689-1934. \nAll federal and local firearm laws and ordinances must be obeyed.
URL:https://bureaucountyfair.com/event/sauk-trail-gun-collectors-gun-show-16/
LOCATION:Bureau County Fairgrounds\, 811 West Peru Street\, Princeton\, IL\, 61356\, United States
CATEGORIES:Gun Show
ATTACH;FMTTYPE=image/jpeg:https://bureaucountyfair.com/wp-content/uploads/2025/01/Sauk-Trail-Gun-Collectors-Gun-Show.webp
ORGANIZER;CN="Kathy Bauer":MAILTO:events@bureaucountyfair.com
END:VEVENT
BEGIN:VEVENT
DTSTART;TZID=America/Chicago:20261129T170000
DTEND;TZID=America/Chicago:20261129T200000
DTSTAMP:20260419T191626
CREATED:20260204T001633Z
LAST-MODIFIED:20260204T011255Z
UID:239855-1795971600-1795982400@bureaucountyfair.com
SUMMARY:Home for the Holidays Christmas Light Drive-thru!!
DESCRIPTION:More details to follow!
URL:https://bureaucountyfair.com/event/home-for-the-holidays-christmas-light-drive-thru-10/
LOCATION:Bureau County Fairgrounds\, 811 West Peru Street\, Princeton\, IL\, 61356\, United States
CATEGORIES:Event
ATTACH;FMTTYPE=image/jpeg:https://bureaucountyfair.com/wp-content/uploads/2026/02/christmas.drive_.thru_.webp
END:VEVENT
BEGIN:VEVENT
DTSTART;TZID=America/Chicago:20261203T091500
DTEND;TZID=America/Chicago:20261203T120000
DTSTAMP:20260419T191626
CREATED:20260204T001905Z
LAST-MODIFIED:20260204T011558Z
UID:239863-1796289300-1796299200@bureaucountyfair.com
SUMMARY:River Bend Food Pantry
DESCRIPTION:The mobile pantry will begin distribution at 10 a.m. at the fairgrounds\, 811 W. Peru St.\, Princeton. Registration is from 9:15 to 10 a.m.\n\n\nThose using the pantry should arrive 30 minutes before distribution. The distribution will be indoors and may take up to two hours. Laundry baskets are great for using the food pantry.\n\n\n\nThe food pantry is coming to Princeton in partnership with the Bureau County Food Pantry\, Old Wheels Club and First Lutheran Church. For information\, visit riverbendfoodbank.org.
URL:https://bureaucountyfair.com/event/river-bend-food-pantry-11/
LOCATION:Bureau County Fairgrounds\, 811 West Peru Street\, Princeton\, IL\, 61356\, United States
CATEGORIES:Food Pantry
ATTACH;FMTTYPE=image/jpeg:https://bureaucountyfair.com/wp-content/uploads/2026/02/Copy-of-Copy-of-Copy-of-river.bend_.food_.bank-dec.2026.webp
ORGANIZER;CN="Kathy Bauer":MAILTO:events@bureaucountyfair.com
END:VEVENT
BEGIN:VEVENT
DTSTART;TZID=America/Chicago:20261204T170000
DTEND;TZID=America/Chicago:20261204T210000
DTSTAMP:20260419T191626
CREATED:20260204T001159Z
LAST-MODIFIED:20260204T011228Z
UID:239837-1796403600-1796418000@bureaucountyfair.com
SUMMARY:Home for the Holidays Christmas Light Drive-thru!!
DESCRIPTION:More details to follow!
URL:https://bureaucountyfair.com/event/home-for-the-holidays-christmas-light-drive-thru-2/
LOCATION:Bureau County Fairgrounds\, 811 West Peru Street\, Princeton\, IL\, 61356\, United States
CATEGORIES:Event
ATTACH;FMTTYPE=image/jpeg:https://bureaucountyfair.com/wp-content/uploads/2026/02/christmas.drive_.thru_.webp
END:VEVENT
BEGIN:VEVENT
DTSTART;TZID=America/Chicago:20261205T170000
DTEND;TZID=America/Chicago:20261205T210000
DTSTAMP:20260419T191626
CREATED:20260204T001436Z
LAST-MODIFIED:20260204T011203Z
UID:239847-1796490000-1796504400@bureaucountyfair.com
SUMMARY:Home for the Holidays Christmas Light Drive-thru!!
DESCRIPTION:More details to follow!
URL:https://bureaucountyfair.com/event/home-for-the-holidays-christmas-light-drive-thru-7/
LOCATION:Bureau County Fairgrounds\, 811 West Peru Street\, Princeton\, IL\, 61356\, United States
CATEGORIES:Event
ATTACH;FMTTYPE=image/jpeg:https://bureaucountyfair.com/wp-content/uploads/2026/02/christmas.drive_.thru_.webp
END:VEVENT
BEGIN:VEVENT
DTSTART;TZID=America/Chicago:20261206T170000
DTEND;TZID=America/Chicago:20261206T200000
DTSTAMP:20260419T191626
CREATED:20260204T001722Z
LAST-MODIFIED:20260204T011139Z
UID:239857-1796576400-1796587200@bureaucountyfair.com
SUMMARY:Home for the Holidays Christmas Light Drive-thru!!
DESCRIPTION:More details to follow!
URL:https://bureaucountyfair.com/event/home-for-the-holidays-christmas-light-drive-thru-11/
LOCATION:Bureau County Fairgrounds\, 811 West Peru Street\, Princeton\, IL\, 61356\, United States
CATEGORIES:Event
ATTACH;FMTTYPE=image/jpeg:https://bureaucountyfair.com/wp-content/uploads/2026/02/christmas.drive_.thru_.webp
END:VEVENT
BEGIN:VEVENT
DTSTART;TZID=America/Chicago:20261211T170000
DTEND;TZID=America/Chicago:20261211T210000
DTSTAMP:20260419T191626
CREATED:20260204T001229Z
LAST-MODIFIED:20260204T011113Z
UID:239839-1797008400-1797022800@bureaucountyfair.com
SUMMARY:Home for the Holidays Christmas Light Drive-thru!!
DESCRIPTION:More details to follow!
URL:https://bureaucountyfair.com/event/home-for-the-holidays-christmas-light-drive-thru-3/
LOCATION:Bureau County Fairgrounds\, 811 West Peru Street\, Princeton\, IL\, 61356\, United States
CATEGORIES:Event
ATTACH;FMTTYPE=image/jpeg:https://bureaucountyfair.com/wp-content/uploads/2026/02/christmas.drive_.thru_.webp
END:VEVENT
BEGIN:VEVENT
DTSTART;TZID=America/Chicago:20261212T090000
DTEND;TZID=America/Chicago:20261212T140000
DTSTAMP:20260419T191626
CREATED:20260204T002029Z
LAST-MODIFIED:20260204T011631Z
UID:239865-1797066000-1797084000@bureaucountyfair.com
SUMMARY:Xmas Craft and Vendor Show & Christmas Gift Sale!
DESCRIPTION:More details to follow!
URL:https://bureaucountyfair.com/event/xmas-craft-and-vendor-show-christmas-gift-sale/
LOCATION:Bureau County Fairgrounds\, 811 West Peru Street\, Princeton\, IL\, 61356\, United States
CATEGORIES:Craft Show,Garage Sales
ATTACH;FMTTYPE=image/jpeg:https://bureaucountyfair.com/wp-content/uploads/2025/01/Christmas-Vendor-Show.webp
END:VEVENT
BEGIN:VEVENT
DTSTART;TZID=America/Chicago:20261212T170000
DTEND;TZID=America/Chicago:20261212T210000
DTSTAMP:20260419T191626
CREATED:20260204T001502Z
LAST-MODIFIED:20260204T011044Z
UID:239849-1797094800-1797109200@bureaucountyfair.com
SUMMARY:Home for the Holidays Christmas Light Drive-thru!!
DESCRIPTION:More details to follow!
URL:https://bureaucountyfair.com/event/home-for-the-holidays-christmas-light-drive-thru-8/
LOCATION:Bureau County Fairgrounds\, 811 West Peru Street\, Princeton\, IL\, 61356\, United States
CATEGORIES:Event
ATTACH;FMTTYPE=image/jpeg:https://bureaucountyfair.com/wp-content/uploads/2026/02/christmas.drive_.thru_.webp
END:VEVENT
BEGIN:VEVENT
DTSTART;TZID=America/Chicago:20261213T170000
DTEND;TZID=America/Chicago:20261213T200000
DTSTAMP:20260419T191626
CREATED:20260204T001752Z
LAST-MODIFIED:20260204T011018Z
UID:239859-1797181200-1797192000@bureaucountyfair.com
SUMMARY:Home for the Holidays Christmas Light Drive-thru!!
DESCRIPTION:More details to follow!
URL:https://bureaucountyfair.com/event/home-for-the-holidays-christmas-light-drive-thru-12/
LOCATION:Bureau County Fairgrounds\, 811 West Peru Street\, Princeton\, IL\, 61356\, United States
CATEGORIES:Event
ATTACH;FMTTYPE=image/jpeg:https://bureaucountyfair.com/wp-content/uploads/2026/02/christmas.drive_.thru_.webp
END:VEVENT
BEGIN:VEVENT
DTSTART;TZID=America/Chicago:20261218T170000
DTEND;TZID=America/Chicago:20261218T210000
DTSTAMP:20260419T191626
CREATED:20260204T001255Z
LAST-MODIFIED:20260204T010953Z
UID:239841-1797613200-1797627600@bureaucountyfair.com
SUMMARY:Home for the Holidays Christmas Light Drive-thru!!
DESCRIPTION:More details to follow!
URL:https://bureaucountyfair.com/event/home-for-the-holidays-christmas-light-drive-thru-4/
LOCATION:Bureau County Fairgrounds\, 811 West Peru Street\, Princeton\, IL\, 61356\, United States
CATEGORIES:Event
ATTACH;FMTTYPE=image/jpeg:https://bureaucountyfair.com/wp-content/uploads/2026/02/christmas.drive_.thru_.webp
END:VEVENT
END:VCALENDAR