BEGIN:VCALENDAR
VERSION:2.0
PRODID:-//Bureau County Fair - ECPv6.15.20//NONSGML v1.0//EN
CALSCALE:GREGORIAN
METHOD:PUBLISH
X-ORIGINAL-URL:https://bureaucountyfair.com
X-WR-CALDESC:Events for Bureau County Fair
REFRESH-INTERVAL;VALUE=DURATION:PT1H
X-Robots-Tag:noindex
X-PUBLISHED-TTL:PT1H
BEGIN:VTIMEZONE
TZID:UTC
BEGIN:STANDARD
TZOFFSETFROM:+0000
TZOFFSETTO:+0000
TZNAME:UTC
DTSTART:20240101T000000
END:STANDARD
END:VTIMEZONE
BEGIN:VTIMEZONE
TZID:America/Chicago
BEGIN:DAYLIGHT
TZOFFSETFROM:-0600
TZOFFSETTO:-0500
TZNAME:CDT
DTSTART:20240310T080000
END:DAYLIGHT
BEGIN:STANDARD
TZOFFSETFROM:-0500
TZOFFSETTO:-0600
TZNAME:CST
DTSTART:20241103T070000
END:STANDARD
BEGIN:DAYLIGHT
TZOFFSETFROM:-0600
TZOFFSETTO:-0500
TZNAME:CDT
DTSTART:20250309T080000
END:DAYLIGHT
BEGIN:STANDARD
TZOFFSETFROM:-0500
TZOFFSETTO:-0600
TZNAME:CST
DTSTART:20251102T070000
END:STANDARD
BEGIN:DAYLIGHT
TZOFFSETFROM:-0600
TZOFFSETTO:-0500
TZNAME:CDT
DTSTART:20260308T080000
END:DAYLIGHT
BEGIN:STANDARD
TZOFFSETFROM:-0500
TZOFFSETTO:-0600
TZNAME:CST
DTSTART:20261101T070000
END:STANDARD
END:VTIMEZONE
BEGIN:VEVENT
DTSTART;TZID=UTC:20250821T170000
DTEND;TZID=UTC:20250821T170000
DTSTAMP:20260422T062039
CREATED:20240727T194240Z
LAST-MODIFIED:20250724T114257Z
UID:238581-1755795600-1755795600@bureaucountyfair.com
SUMMARY:Beer Garden
DESCRIPTION:Beer Garden by the grandstand
URL:https://bureaucountyfair.com/event/beer-garden/
LOCATION:Bureau County Fairgrounds\, 811 West Peru Street\, Princeton\, IL\, 61356\, United States
CATEGORIES:Fair,Thursday
ATTACH;FMTTYPE=image/jpeg:https://bureaucountyfair.com/wp-content/uploads/2024/07/BC-Fair-beer-garden-jpg.webp
END:VEVENT
BEGIN:VEVENT
DTSTART;TZID=America/Chicago:20250821T163000
DTEND;TZID=America/Chicago:20250821T173000
DTSTAMP:20260422T062039
CREATED:20250724T114453Z
LAST-MODIFIED:20250724T114453Z
UID:239464-1755793800-1755797400@bureaucountyfair.com
SUMMARY:Jon Graham: Jimmy Buffet Tribute
DESCRIPTION:
URL:https://bureaucountyfair.com/event/jon-graham-jimmy-buffet-tribute-2/
LOCATION:Hospitality Building\, 811 West Peru Street\, Princeton\, 61356\, United States
CATEGORIES:Fair,Thursday
END:VEVENT
BEGIN:VEVENT
DTSTART;TZID=UTC:20250821T150000
DTEND;TZID=UTC:20250821T160000
DTSTAMP:20260422T062039
CREATED:20240727T193255Z
LAST-MODIFIED:20250724T114105Z
UID:238575-1755788400-1755792000@bureaucountyfair.com
SUMMARY:Jack Ness
DESCRIPTION:Kramer Hospitality Bldg – Jack Ness – Variety music
URL:https://bureaucountyfair.com/event/jack-ness-music/
LOCATION:Hospitality Building\, 811 West Peru Street\, Princeton\, 61356\, United States
CATEGORIES:Fair,Thursday
END:VEVENT
BEGIN:VEVENT
DTSTART;TZID=UTC:20250821T120000
DTEND;TZID=UTC:20250821T220000
DTSTAMP:20260422T062039
CREATED:20240727T195926Z
LAST-MODIFIED:20250724T114031Z
UID:238600-1755777600-1755813600@bureaucountyfair.com
SUMMARY:Exhibit Halls Open
DESCRIPTION:
URL:https://bureaucountyfair.com/event/exhibit-halls-open-2/
LOCATION:Allen Building
CATEGORIES:Fair,Thursday
ATTACH;FMTTYPE=image/jpeg:https://bureaucountyfair.com/wp-content/uploads/2024/04/fairground-map.jpg
END:VEVENT
BEGIN:VEVENT
DTSTART;TZID=America/Chicago:20250821T120000
DTEND;TZID=America/Chicago:20250821T170000
DTSTAMP:20260422T062039
CREATED:20250724T114153Z
LAST-MODIFIED:20250724T114153Z
UID:239462-1755777600-1755795600@bureaucountyfair.com
SUMMARY:Antique Motorcycle Display
DESCRIPTION:
URL:https://bureaucountyfair.com/event/antique-motorcycle-display/
LOCATION:Bureau County Fairgrounds\, 811 West Peru Street\, Princeton\, IL\, 61356\, United States
CATEGORIES:Fair,Thursday
END:VEVENT
BEGIN:VEVENT
DTSTART;TZID=UTC:20250821T120000
DTEND;TZID=UTC:20250821T150000
DTSTAMP:20260422T062039
CREATED:20240727T192940Z
LAST-MODIFIED:20250724T113942Z
UID:238572-1755777600-1755788400@bureaucountyfair.com
SUMMARY:Bingo for Seniors
DESCRIPTION:Kramer Hospitality Bldg – Bingo for Seniors presented by Princeton Moose Lodge
URL:https://bureaucountyfair.com/event/bingo-for-seniors/
LOCATION:Hospitality Building\, 811 West Peru Street\, Princeton\, 61356\, United States
CATEGORIES:Fair,Thursday
ATTACH;FMTTYPE=image/jpeg:https://bureaucountyfair.com/wp-content/uploads/2024/07/BC-Fair-bingo-jpg.webp
END:VEVENT
BEGIN:VEVENT
DTSTART;TZID=UTC:20250821T093000
DTEND;TZID=UTC:20250821T093000
DTSTAMP:20260422T062039
CREATED:20240727T191913Z
LAST-MODIFIED:20250724T113851Z
UID:238569-1755768600-1755768600@bureaucountyfair.com
SUMMARY:Dairy Cattle Show
DESCRIPTION:
URL:https://bureaucountyfair.com/event/dairy-cattle-show/
LOCATION:Bureau County Fairgrounds\, 811 West Peru Street\, Princeton\, IL\, 61356\, United States
CATEGORIES:Fair,Thursday
END:VEVENT
END:VCALENDAR