BEGIN:VCALENDAR
VERSION:2.0
PRODID:-//Bureau County Fair - ECPv6.15.20//NONSGML v1.0//EN
CALSCALE:GREGORIAN
METHOD:PUBLISH
X-WR-CALNAME:Bureau County Fair
X-ORIGINAL-URL:https://bureaucountyfair.com
X-WR-CALDESC:Events for Bureau County Fair
REFRESH-INTERVAL;VALUE=DURATION:PT1H
X-Robots-Tag:noindex
X-PUBLISHED-TTL:PT1H
BEGIN:VTIMEZONE
TZID:UTC
BEGIN:STANDARD
TZOFFSETFROM:+0000
TZOFFSETTO:+0000
TZNAME:UTC
DTSTART:20240101T000000
END:STANDARD
END:VTIMEZONE
BEGIN:VEVENT
DTSTART;TZID=UTC:20250824T130000
DTEND;TZID=UTC:20250824T130000
DTSTAMP:20260425T192951
CREATED:20240821T010643Z
LAST-MODIFIED:20250725T142716Z
UID:238828-1756040400-1756040400@bureaucountyfair.com
SUMMARY:Wilson Carnival
DESCRIPTION:“Last Blast” Unlimited Carnival Rides for $25. Sunday Fun Day.
URL:https://bureaucountyfair.com/event/wilson-carnival-5/
LOCATION:Bureau County Fairgrounds\, 811 West Peru Street\, Princeton\, IL\, 61356\, United States
CATEGORIES:Sunday
ATTACH;FMTTYPE=image/jpeg:https://bureaucountyfair.com/wp-content/uploads/2024/08/carnival-afternoon-jpg.webp
END:VEVENT
BEGIN:VEVENT
DTSTART;TZID=UTC:20250824T133000
DTEND;TZID=UTC:20250824T143000
DTSTAMP:20260425T192951
CREATED:20240727T211553Z
LAST-MODIFIED:20250725T142800Z
UID:238688-1756042200-1756045800@bureaucountyfair.com
SUMMARY:Bureau Co Barbershop Chorus
DESCRIPTION:Kramer Hospitality Building – Bureau Co Barbershop Chorus
URL:https://bureaucountyfair.com/event/bureau-co-barbershop-chorus/
LOCATION:Bureau County Fairgrounds\, 811 West Peru Street\, Princeton\, IL\, 61356\, United States
CATEGORIES:Fair,Sunday
END:VEVENT
BEGIN:VEVENT
DTSTART;TZID=UTC:20250824T140000
DTEND;TZID=UTC:20250824T140000
DTSTAMP:20260425T192951
CREATED:20240727T211916Z
LAST-MODIFIED:20250725T143850Z
UID:238690-1756044000-1756044000@bureaucountyfair.com
SUMMARY:Kid Buck$ Game Show
DESCRIPTION:Kid Buck$ Game Show is a thrilling show where randomly selected members the audience participate in wild and crazy games. This is a free event and fun for the whole family. Unlike many “trivia based” game shows where contestants ring a bell and answer a question\, Kid Buck$ is an “auction” based game in which the contestants are competing in clever\, creative\, challenging and entertaining games of a physical nature. The grand champion enters the Kid Buck$ chamber and grabs as many “Kid Buck$” as possible\, as they swirl about the chamber.
URL:https://bureaucountyfair.com/event/kid-bucks-game-show-3/
LOCATION:Bureau County Fairgrounds\, 811 West Peru Street\, Princeton\, IL\, 61356\, United States
CATEGORIES:Fair,Sunday
ATTACH;FMTTYPE=image/jpeg:https://bureaucountyfair.com/wp-content/uploads/2024/07/kids-bucks-game-stage.webp
END:VEVENT
BEGIN:VEVENT
DTSTART;TZID=UTC:20250824T140000
DTEND;TZID=UTC:20250824T140000
DTSTAMP:20260425T192951
CREATED:20240727T212312Z
LAST-MODIFIED:20250725T142943Z
UID:238692-1756044000-1756044000@bureaucountyfair.com
SUMMARY:Queen's Pie Auction
DESCRIPTION:Queen’s Pie Auction
URL:https://bureaucountyfair.com/event/queens-pie-auction/
LOCATION:Bureau County Fairgrounds\, 811 West Peru Street\, Princeton\, IL\, 61356\, United States
CATEGORIES:Fair,Sunday
ATTACH;FMTTYPE=image/jpeg:https://bureaucountyfair.com/wp-content/uploads/2024/07/BC-Fair-pie-auction-jpg.webp
END:VEVENT
BEGIN:VEVENT
DTSTART;TZID=UTC:20250824T150000
DTEND;TZID=UTC:20250824T153000
DTSTAMP:20260425T192951
CREATED:20240727T212407Z
LAST-MODIFIED:20250725T143411Z
UID:238695-1756047600-1756049400@bureaucountyfair.com
SUMMARY:Those Funny Little People
DESCRIPTION:An entertainment act like nothing you’ve ever seen\, Those Funny Little People are mobile puppet characters with polished performances that are a mix of comedy\, music\, dance and audience interaction. With their expressive\, animated faces and intricate choreography\, the Little People put on shows that have amazed and entertained audiences of all ages.
URL:https://bureaucountyfair.com/event/those-funny-little-people/
LOCATION:Hospitality Building\, 811 West Peru Street\, Princeton\, 61356\, United States
CATEGORIES:Fair,Sunday
ATTACH;FMTTYPE=image/jpeg:https://bureaucountyfair.com/wp-content/uploads/2024/07/funny-little-people-country.webp
END:VEVENT
BEGIN:VEVENT
DTSTART;TZID=UTC:20250824T153000
DTEND;TZID=UTC:20250824T163000
DTSTAMP:20260425T192951
CREATED:20240727T212500Z
LAST-MODIFIED:20250725T143644Z
UID:238697-1756049400-1756053000@bureaucountyfair.com
SUMMARY:Kid Buck$ Game Show
DESCRIPTION:Kid Buck$ Game Show is a thrilling show where randomly selected members the audience participate in wild and crazy games. This is a free event and fun for the whole family. Unlike many “trivia based” game shows where contestants ring a bell and answer a question\, Kid Buck$ is an “auction” based game in which the contestants are competing in clever\, creative\, challenging and entertaining games of a physical nature. The grand champion enters the Kid Buck$ chamber and grabs as many “Kid Buck$” as possible\, as they swirl about the chamber.
URL:https://bureaucountyfair.com/event/kid-bucks-game-show/
LOCATION:Bureau County Fairgrounds\, 811 West Peru Street\, Princeton\, IL\, 61356\, United States
CATEGORIES:Fair,Sunday
ATTACH;FMTTYPE=image/jpeg:https://bureaucountyfair.com/wp-content/uploads/2024/07/kids-bucks-game-stage.webp
END:VEVENT
BEGIN:VEVENT
DTSTART;TZID=UTC:20250824T153000
DTEND;TZID=UTC:20250824T170000
DTSTAMP:20260425T192951
CREATED:20240727T212540Z
LAST-MODIFIED:20250725T143723Z
UID:238699-1756049400-1756054800@bureaucountyfair.com
SUMMARY:DJ Music
DESCRIPTION:Kramer Hospitality Building – DJ Music
URL:https://bureaucountyfair.com/event/dj-music-2/
LOCATION:Hospitality Building\, 811 West Peru Street\, Princeton\, 61356\, United States
CATEGORIES:Fair,Sunday
END:VEVENT
BEGIN:VEVENT
DTSTART;TZID=UTC:20250824T170000
DTEND;TZID=UTC:20250824T170000
DTSTAMP:20260425T192951
CREATED:20240727T212723Z
LAST-MODIFIED:20250725T143812Z
UID:238701-1756054800-1756054800@bureaucountyfair.com
SUMMARY:Fine arts entries released
DESCRIPTION:
URL:https://bureaucountyfair.com/event/fine-arts-entries-released/
LOCATION:Bureau County Fairgrounds\, 811 West Peru Street\, Princeton\, IL\, 61356\, United States
CATEGORIES:Fair,Sunday
END:VEVENT
END:VCALENDAR