BEGIN:VCALENDAR
VERSION:2.0
PRODID:-//Bureau County Fair - ECPv6.15.20//NONSGML v1.0//EN
CALSCALE:GREGORIAN
METHOD:PUBLISH
X-ORIGINAL-URL:https://bureaucountyfair.com
X-WR-CALDESC:Events for Bureau County Fair
REFRESH-INTERVAL;VALUE=DURATION:PT1H
X-Robots-Tag:noindex
X-PUBLISHED-TTL:PT1H
BEGIN:VTIMEZONE
TZID:America/Chicago
BEGIN:DAYLIGHT
TZOFFSETFROM:-0600
TZOFFSETTO:-0500
TZNAME:CDT
DTSTART:20250309T080000
END:DAYLIGHT
BEGIN:STANDARD
TZOFFSETFROM:-0500
TZOFFSETTO:-0600
TZNAME:CST
DTSTART:20251102T070000
END:STANDARD
BEGIN:DAYLIGHT
TZOFFSETFROM:-0600
TZOFFSETTO:-0500
TZNAME:CDT
DTSTART:20260308T080000
END:DAYLIGHT
BEGIN:STANDARD
TZOFFSETFROM:-0500
TZOFFSETTO:-0600
TZNAME:CST
DTSTART:20261101T070000
END:STANDARD
BEGIN:DAYLIGHT
TZOFFSETFROM:-0600
TZOFFSETTO:-0500
TZNAME:CDT
DTSTART:20270314T080000
END:DAYLIGHT
BEGIN:STANDARD
TZOFFSETFROM:-0500
TZOFFSETTO:-0600
TZNAME:CST
DTSTART:20271107T070000
END:STANDARD
END:VTIMEZONE
BEGIN:VEVENT
DTSTART;TZID=America/Chicago:20260411T090000
DTEND;TZID=America/Chicago:20260411T140000
DTSTAMP:20260421T080042
CREATED:20260203T235308Z
LAST-MODIFIED:20260206T205850Z
UID:239791-1775898000-1775916000@bureaucountyfair.com
SUMMARY:Spring Craft and Vendor Show & Flea Market!
DESCRIPTION:More details to follow! \nClick here for registration form
URL:https://bureaucountyfair.com/event/spring-craft-vendor-show/
LOCATION:Bureau County Fairgrounds\, 811 West Peru Street\, Princeton\, IL\, 61356\, United States
CATEGORIES:Craft Show
ATTACH;FMTTYPE=image/jpeg:https://bureaucountyfair.com/wp-content/uploads/2026/02/craft.vendor.sale_.webp
END:VEVENT
END:VCALENDAR