BEGIN:VCALENDAR
VERSION:2.0
PRODID:-//Bureau County Fair - ECPv6.15.20//NONSGML v1.0//EN
CALSCALE:GREGORIAN
METHOD:PUBLISH
X-WR-CALNAME:Bureau County Fair
X-ORIGINAL-URL:https://bureaucountyfair.com
X-WR-CALDESC:Events for Bureau County Fair
REFRESH-INTERVAL;VALUE=DURATION:PT1H
X-Robots-Tag:noindex
X-PUBLISHED-TTL:PT1H
BEGIN:VTIMEZONE
TZID:UTC
BEGIN:STANDARD
TZOFFSETFROM:+0000
TZOFFSETTO:+0000
TZNAME:UTC
DTSTART:20240101T000000
END:STANDARD
END:VTIMEZONE
BEGIN:VEVENT
DTSTART;TZID=UTC:20250822T170000
DTEND;TZID=UTC:20250822T180000
DTSTAMP:20260420T231655
CREATED:20240727T201052Z
LAST-MODIFIED:20250725T131236Z
UID:238607-1755882000-1755885600@bureaucountyfair.com
SUMMARY:Al & Jeannie Brown
DESCRIPTION:Kramer Hospitality Building – Jazz and Swing music.
URL:https://bureaucountyfair.com/event/generics-combo/
LOCATION:Hospitality Building\, 811 West Peru Street\, Princeton\, 61356\, United States
CATEGORIES:Fair,Friday
END:VEVENT
END:VCALENDAR